BEGIN:VCALENDAR
VERSION:2.0
PRODID:-//STREAM Innovations - ECPv6.15.20//NONSGML v1.0//EN
CALSCALE:GREGORIAN
METHOD:PUBLISH
X-WR-CALNAME:STREAM Innovations
X-ORIGINAL-URL:https://streaminnovations.org
X-WR-CALDESC:Events for STREAM Innovations
REFRESH-INTERVAL;VALUE=DURATION:PT1H
X-Robots-Tag:noindex
X-PUBLISHED-TTL:PT1H
BEGIN:VTIMEZONE
TZID:America/Chicago
BEGIN:DAYLIGHT
TZOFFSETFROM:-0600
TZOFFSETTO:-0500
TZNAME:CDT
DTSTART:20250309T080000
END:DAYLIGHT
BEGIN:STANDARD
TZOFFSETFROM:-0500
TZOFFSETTO:-0600
TZNAME:CST
DTSTART:20251102T070000
END:STANDARD
BEGIN:DAYLIGHT
TZOFFSETFROM:-0600
TZOFFSETTO:-0500
TZNAME:CDT
DTSTART:20260308T080000
END:DAYLIGHT
BEGIN:STANDARD
TZOFFSETFROM:-0500
TZOFFSETTO:-0600
TZNAME:CST
DTSTART:20261101T070000
END:STANDARD
BEGIN:DAYLIGHT
TZOFFSETFROM:-0600
TZOFFSETTO:-0500
TZNAME:CDT
DTSTART:20270314T080000
END:DAYLIGHT
BEGIN:STANDARD
TZOFFSETFROM:-0500
TZOFFSETTO:-0600
TZNAME:CST
DTSTART:20271107T070000
END:STANDARD
END:VTIMEZONE
BEGIN:VEVENT
DTSTART;TZID=America/Chicago:20260323T080000
DTEND;TZID=America/Chicago:20260403T150000
DTSTAMP:20260421T071323
CREATED:20260226T200704Z
LAST-MODIFIED:20260402T165259Z
UID:3354-1774252800-1775228400@streaminnovations.org
SUMMARY:STREAM Break 2026
DESCRIPTION:STREAM Break Camp\nSpring Break with Purpose\nThis Spring Break\, give your child more than something to do. Give them something that builds them. \nSTREAM Break Camp is a one-week\, hands-on innovation experience designed to strengthen problem-solving skills\, spark creativity and build real confidence. \nMonday–Friday |8:00 AM – 3:00 PM$300 (Breakfast + lunch included daily) \nSpots are limited. Registration is now open. \nReserve Your Child’s Spot Today \nWhat Makes STREAM Break Different?\nThis isn’t passive learning.This is movement-centered\, collaborative\, real-world innovation. \n🔬 Monday – STREAM Science Kitchen at Ocean Restaurant\nHands-on science through culinary experiments and real-world chemistry \n🛠 Tuesday – Engineering & Design Challenges\nTeam-based problem solving\, building\, testing\, and improving solutions \n💻 Wednesday – Technology + Digital Storytelling\nInnovators create digital projects and learn to communicate ideas with confidence \n🎨 Thursday – Art\, Geometry & Creative Math\nMath becomes visual\, creative\, and engaging through design-based learning \n🎤 Friday – Future Innovators Prototype & Pitch Showcase\nInnovators develop a prototype and present their ideas in a confidence-building showcase \nBy Friday\, students don’t just complete projects. They present like innovators. \nWhy Parents Enroll Their Children\n✔ Structured\, engaging full-day schedule✔ Hands-on\, screen-balanced learning✔ Confidence-building experiences✔ Real-world problem solving✔ Public speaking practice✔ Breakfast + lunch included for convenience \nIf you’re looking for a Spring Break experience that nurtures curiosity and strengthens critical thinking — this is it. \nFrequently Asked Questions\nWhat age group is this camp for?\nSTREAM Break Camp is designed for 4th and 5th grade students. \nWhat is included in the $300 fee?\nThe full week of programming (Monday–Friday\, 8:00 AM–3:00 PM)\, all materials and supplies\, breakfast\, and lunch daily. \nIs this academic or recreational?\nIt’s both. Students engage in structured enrichment activities in science\, technology\, engineering\, art and math — delivered in a hands-on\, high-energy format. \nWill my child be active during the day?\nYes. Our camp is intentionally movement-centered and interactive. Students collaborate\, build\, create and present. \nWhat makes STREAM Break Camp different from other camps?\nWe focus on innovation\, real-world problem-solving\, and confidence building. Students leave with new skills. \nAre spots limited?\nYes. We intentionally keep enrollment limited to ensure personalized attention and high-quality experiences. \nReady to Invest in a Meaningful Spring Break?\nGive your child a week that challenges them\, inspires them\, and builds their confidence. \nRegister Now – Limited Spots Available\n 
URL:https://streaminnovations.org/event/stream-break-2026/
LOCATION:STREAM Innovations Headquarters\, 1224 20th Street South\, Birmingham\, AL\, 35205\, United States
ATTACH;FMTTYPE=image/png:https://streaminnovations.org/wp-content/uploads/2026/02/Stream-Break-Facebook-Cover.png
ORGANIZER;CN="STREAM Innovations":MAILTO:stream@streaminnovations.org
END:VEVENT
BEGIN:VEVENT
DTSTART;TZID=America/Chicago:20260418T110000
DTEND;TZID=America/Chicago:20260418T130000
DTSTAMP:20260421T071323
CREATED:20260403T173238Z
LAST-MODIFIED:20260411T023929Z
UID:3438-1776510000-1776517200@streaminnovations.org
SUMMARY:Built with Love: Dads & Daughters Edition
DESCRIPTION:This isn’t just another event. \nBuilt with Love is a space where relationships are prioritized\, conversations happen naturally and memories are created intentionally. \nIn this special Dad & Daughter Edition\, participants will work side by side on a guided build project while sharing meaningful moments designed to bring them closer. \nWhether you’re a dad\, granddad\, uncle\, mentor or father figure—this experience is for you. \n\nWhat You’ll Experience\n\nHands-on building activity (no experience needed)\nGuided connection moments\nA take-home project\nOpportunities to capture memories together\nA shared meal to enjoy side by side\n\nLEGO Build Choices\nBuild Your Way\, Together. \nYou and your child will choose between two LEGO® build experiences: \n\n A colorful hummingbird scene\nA panda family design\n\nEach set includes 3 possible builds\, so your creation becomes a reflection of your teamwork and creativity. \n        \n\nWho It’s For\n\nFathers\, father figures and mentors\nDaughters (we recommend 3rd grade and above)\nAnyone looking to deepen their bond through a shared experience\n\n\nWhy It Matters\nTime moves fast. \nThis experience is about slowing down — even for just a few hours — to invest in a relationship that lasts a lifetime. \nBecause the moments you create together today become the memories she carries forever. \n\n🎟️ Reserve Your Spot\nSpots are limited. \nDon’t miss the chance to build something that truly matters. \nRegister now to secure your place
URL:https://streaminnovations.org/event/built-with-love-dads-daughters-edition/
LOCATION:STREAM Innovations Headquarters\, 1224 20th Street South\, Birmingham\, AL\, 35205\, United States
ATTACH;FMTTYPE=image/png:https://streaminnovations.org/wp-content/uploads/2026/04/Built-With-Love-Banner-1.png
ORGANIZER;CN="STREAM Innovations":MAILTO:stream@streaminnovations.org
END:VEVENT
END:VCALENDAR